BEGIN:VCALENDAR
VERSION:2.0
PRODID:-//Memorial Congregational Church of Sudbury - ECPv6.15.20//NONSGML v1.0//EN
CALSCALE:GREGORIAN
METHOD:PUBLISH
X-ORIGINAL-URL:https://www.mccsudbury.org
X-WR-CALDESC:Events for Memorial Congregational Church of Sudbury
REFRESH-INTERVAL;VALUE=DURATION:PT1H
X-Robots-Tag:noindex
X-PUBLISHED-TTL:PT1H
BEGIN:VTIMEZONE
TZID:America/New_York
BEGIN:DAYLIGHT
TZOFFSETFROM:-0500
TZOFFSETTO:-0400
TZNAME:EDT
DTSTART:20250309T070000
END:DAYLIGHT
BEGIN:STANDARD
TZOFFSETFROM:-0400
TZOFFSETTO:-0500
TZNAME:EST
DTSTART:20251102T060000
END:STANDARD
BEGIN:DAYLIGHT
TZOFFSETFROM:-0500
TZOFFSETTO:-0400
TZNAME:EDT
DTSTART:20260308T070000
END:DAYLIGHT
BEGIN:STANDARD
TZOFFSETFROM:-0400
TZOFFSETTO:-0500
TZNAME:EST
DTSTART:20261101T060000
END:STANDARD
BEGIN:DAYLIGHT
TZOFFSETFROM:-0500
TZOFFSETTO:-0400
TZNAME:EDT
DTSTART:20270314T070000
END:DAYLIGHT
BEGIN:STANDARD
TZOFFSETFROM:-0400
TZOFFSETTO:-0500
TZNAME:EST
DTSTART:20271107T060000
END:STANDARD
END:VTIMEZONE
BEGIN:VEVENT
DTSTART;TZID=America/New_York:20260123T183000
DTEND;TZID=America/New_York:20260123T200000
DTSTAMP:20260422T151927
CREATED:20260108T162129Z
LAST-MODIFIED:20260108T172154Z
UID:10001559-1769193000-1769198400@www.mccsudbury.org
SUMMARY:Capital Campaign Kick-off Party
DESCRIPTION:Join us for a FREE event with food\, live music and fun for the entire MCC community! Kids activities and supervision will be available. All are welcome! \nat The Plymouth Church in Framingham
URL:https://www.mccsudbury.org/event/1651/
LOCATION:The Plymouth Church in Framingham\, Parish Hall\, 87 Edgell Road\, Framingham\, MA\, United States
ATTACH;FMTTYPE=image/png:https://www.mccsudbury.org/wp-content/uploads/2026/01/kick-off-header.png
END:VEVENT
END:VCALENDAR