BEGIN:VCALENDAR
VERSION:2.0
PRODID:-//Memorial Congregational Church of Sudbury - ECPv6.15.20//NONSGML v1.0//EN
CALSCALE:GREGORIAN
METHOD:PUBLISH
X-ORIGINAL-URL:https://www.mccsudbury.org
X-WR-CALDESC:Events for Memorial Congregational Church of Sudbury
REFRESH-INTERVAL;VALUE=DURATION:PT1H
X-Robots-Tag:noindex
X-PUBLISHED-TTL:PT1H
BEGIN:VTIMEZONE
TZID:America/New_York
BEGIN:DAYLIGHT
TZOFFSETFROM:-0500
TZOFFSETTO:-0400
TZNAME:EDT
DTSTART:20250309T070000
END:DAYLIGHT
BEGIN:STANDARD
TZOFFSETFROM:-0400
TZOFFSETTO:-0500
TZNAME:EST
DTSTART:20251102T060000
END:STANDARD
BEGIN:DAYLIGHT
TZOFFSETFROM:-0500
TZOFFSETTO:-0400
TZNAME:EDT
DTSTART:20260308T070000
END:DAYLIGHT
BEGIN:STANDARD
TZOFFSETFROM:-0400
TZOFFSETTO:-0500
TZNAME:EST
DTSTART:20261101T060000
END:STANDARD
BEGIN:DAYLIGHT
TZOFFSETFROM:-0500
TZOFFSETTO:-0400
TZNAME:EDT
DTSTART:20270314T070000
END:DAYLIGHT
BEGIN:STANDARD
TZOFFSETFROM:-0400
TZOFFSETTO:-0500
TZNAME:EST
DTSTART:20271107T060000
END:STANDARD
END:VTIMEZONE
BEGIN:VEVENT
DTSTART;TZID=America/New_York:20260429T190000
DTEND;TZID=America/New_York:20260429T203000
DTSTAMP:20260423T164404
CREATED:20260107T192818Z
LAST-MODIFIED:20260120T004932Z
UID:10001247-1777489200-1777494600@www.mccsudbury.org
SUMMARY:Senior Choir Rehearsal
DESCRIPTION:
URL:https://www.mccsudbury.org/event/senior-choir-rehearsal/2026-04-29/
LOCATION:Sanctuary\, 26 Concord Road\, Sudbury\, 01776\, United States
CATEGORIES:MCC Event
ATTACH;FMTTYPE=image/webp:https://www.mccsudbury.org/wp-content/uploads/2025/11/senior-choir.webp
END:VEVENT
BEGIN:VEVENT
DTSTART;TZID=America/New_York:20260429T193000
DTEND;TZID=America/New_York:20260429T213000
DTSTAMP:20260423T164404
CREATED:20260107T192944Z
LAST-MODIFIED:20260120T163111Z
UID:10001971-1777491000-1777498200@www.mccsudbury.org
SUMMARY:Boy Scouts Troop 61 Meeting
DESCRIPTION:
URL:https://www.mccsudbury.org/event/boy-scouts-troop-61-meeting/2026-04-29/
LOCATION:Ames Hall\, 26 Concord Road\, Sudbury\, MA\, 01776\, United States
CATEGORIES:Non-Church Events
ATTACH;FMTTYPE=image/jpeg:https://www.mccsudbury.org/wp-content/uploads/2026/01/troop61.jpg
END:VEVENT
END:VCALENDAR