BEGIN:VCALENDAR
VERSION:2.0
PRODID:-//Memorial Congregational Church of Sudbury - ECPv6.15.20//NONSGML v1.0//EN
CALSCALE:GREGORIAN
METHOD:PUBLISH
X-WR-CALNAME:Memorial Congregational Church of Sudbury
X-ORIGINAL-URL:https://www.mccsudbury.org
X-WR-CALDESC:Events for Memorial Congregational Church of Sudbury
REFRESH-INTERVAL;VALUE=DURATION:PT1H
X-Robots-Tag:noindex
X-PUBLISHED-TTL:PT1H
BEGIN:VTIMEZONE
TZID:America/New_York
BEGIN:DAYLIGHT
TZOFFSETFROM:-0500
TZOFFSETTO:-0400
TZNAME:EDT
DTSTART:20250309T070000
END:DAYLIGHT
BEGIN:STANDARD
TZOFFSETFROM:-0400
TZOFFSETTO:-0500
TZNAME:EST
DTSTART:20251102T060000
END:STANDARD
BEGIN:DAYLIGHT
TZOFFSETFROM:-0500
TZOFFSETTO:-0400
TZNAME:EDT
DTSTART:20260308T070000
END:DAYLIGHT
BEGIN:STANDARD
TZOFFSETFROM:-0400
TZOFFSETTO:-0500
TZNAME:EST
DTSTART:20261101T060000
END:STANDARD
BEGIN:DAYLIGHT
TZOFFSETFROM:-0500
TZOFFSETTO:-0400
TZNAME:EDT
DTSTART:20270314T070000
END:DAYLIGHT
BEGIN:STANDARD
TZOFFSETFROM:-0400
TZOFFSETTO:-0500
TZNAME:EST
DTSTART:20271107T060000
END:STANDARD
END:VTIMEZONE
BEGIN:VEVENT
DTSTART;TZID=America/New_York:20260619T090000
DTEND;TZID=America/New_York:20260619T231500
DTSTAMP:20260422T162519
CREATED:20260422T164740Z
LAST-MODIFIED:20260422T164740Z
UID:10002291-1781859600-1781910900@www.mccsudbury.org
SUMMARY:Music Together
DESCRIPTION:
URL:https://www.mccsudbury.org/event/music-together-4/2026-06-19/
LOCATION:Parlor\, 26 Concord Road\, Sudbury\, MA\, 01776\, United States
CATEGORIES:Renters
ATTACH;FMTTYPE=image/webp:https://www.mccsudbury.org/wp-content/uploads/2026/01/JDJ_9873.webp
END:VEVENT
BEGIN:VEVENT
DTSTART;TZID=America/New_York:20260710T090000
DTEND;TZID=America/New_York:20260710T231500
DTSTAMP:20260422T162519
CREATED:20260422T164740Z
LAST-MODIFIED:20260422T164740Z
UID:10002294-1783674000-1783725300@www.mccsudbury.org
SUMMARY:Music Together
DESCRIPTION:
URL:https://www.mccsudbury.org/event/music-together-4/2026-07-10/
LOCATION:Parlor\, 26 Concord Road\, Sudbury\, MA\, 01776\, United States
CATEGORIES:Renters
ATTACH;FMTTYPE=image/webp:https://www.mccsudbury.org/wp-content/uploads/2026/01/JDJ_9873.webp
END:VEVENT
BEGIN:VEVENT
DTSTART;TZID=America/New_York:20260717T090000
DTEND;TZID=America/New_York:20260717T231500
DTSTAMP:20260422T162519
CREATED:20260422T164740Z
LAST-MODIFIED:20260422T164740Z
UID:10002295-1784278800-1784330100@www.mccsudbury.org
SUMMARY:Music Together
DESCRIPTION:
URL:https://www.mccsudbury.org/event/music-together-4/2026-07-17/
LOCATION:Parlor\, 26 Concord Road\, Sudbury\, MA\, 01776\, United States
CATEGORIES:Renters
ATTACH;FMTTYPE=image/webp:https://www.mccsudbury.org/wp-content/uploads/2026/01/JDJ_9873.webp
END:VEVENT
BEGIN:VEVENT
DTSTART;TZID=America/New_York:20260724T090000
DTEND;TZID=America/New_York:20260724T231500
DTSTAMP:20260422T162519
CREATED:20260422T164740Z
LAST-MODIFIED:20260422T164740Z
UID:10002296-1784883600-1784934900@www.mccsudbury.org
SUMMARY:Music Together
DESCRIPTION:
URL:https://www.mccsudbury.org/event/music-together-4/2026-07-24/
LOCATION:Parlor\, 26 Concord Road\, Sudbury\, MA\, 01776\, United States
CATEGORIES:Renters
ATTACH;FMTTYPE=image/webp:https://www.mccsudbury.org/wp-content/uploads/2026/01/JDJ_9873.webp
END:VEVENT
BEGIN:VEVENT
DTSTART;TZID=America/New_York:20260731T090000
DTEND;TZID=America/New_York:20260731T231500
DTSTAMP:20260422T162519
CREATED:20260422T164740Z
LAST-MODIFIED:20260422T164740Z
UID:10002297-1785488400-1785539700@www.mccsudbury.org
SUMMARY:Music Together
DESCRIPTION:
URL:https://www.mccsudbury.org/event/music-together-4/2026-07-31/
LOCATION:Parlor\, 26 Concord Road\, Sudbury\, MA\, 01776\, United States
CATEGORIES:Renters
ATTACH;FMTTYPE=image/webp:https://www.mccsudbury.org/wp-content/uploads/2026/01/JDJ_9873.webp
END:VEVENT
BEGIN:VEVENT
DTSTART;TZID=America/New_York:20260807T090000
DTEND;TZID=America/New_York:20260807T231500
DTSTAMP:20260422T162519
CREATED:20260422T164740Z
LAST-MODIFIED:20260422T164740Z
UID:10002298-1786093200-1786144500@www.mccsudbury.org
SUMMARY:Music Together
DESCRIPTION:
URL:https://www.mccsudbury.org/event/music-together-4/2026-08-07/
LOCATION:Parlor\, 26 Concord Road\, Sudbury\, MA\, 01776\, United States
CATEGORIES:Renters
ATTACH;FMTTYPE=image/webp:https://www.mccsudbury.org/wp-content/uploads/2026/01/JDJ_9873.webp
END:VEVENT
END:VCALENDAR