BEGIN:VCALENDAR
VERSION:2.0
PRODID:-//Memorial Congregational Church of Sudbury - ECPv6.15.20//NONSGML v1.0//EN
CALSCALE:GREGORIAN
METHOD:PUBLISH
X-WR-CALNAME:Memorial Congregational Church of Sudbury
X-ORIGINAL-URL:https://www.mccsudbury.org
X-WR-CALDESC:Events for Memorial Congregational Church of Sudbury
REFRESH-INTERVAL;VALUE=DURATION:PT1H
X-Robots-Tag:noindex
X-PUBLISHED-TTL:PT1H
BEGIN:VTIMEZONE
TZID:America/New_York
BEGIN:DAYLIGHT
TZOFFSETFROM:-0500
TZOFFSETTO:-0400
TZNAME:EDT
DTSTART:20250309T070000
END:DAYLIGHT
BEGIN:STANDARD
TZOFFSETFROM:-0400
TZOFFSETTO:-0500
TZNAME:EST
DTSTART:20251102T060000
END:STANDARD
BEGIN:DAYLIGHT
TZOFFSETFROM:-0500
TZOFFSETTO:-0400
TZNAME:EDT
DTSTART:20260308T070000
END:DAYLIGHT
BEGIN:STANDARD
TZOFFSETFROM:-0400
TZOFFSETTO:-0500
TZNAME:EST
DTSTART:20261101T060000
END:STANDARD
BEGIN:DAYLIGHT
TZOFFSETFROM:-0500
TZOFFSETTO:-0400
TZNAME:EDT
DTSTART:20270314T070000
END:DAYLIGHT
BEGIN:STANDARD
TZOFFSETFROM:-0400
TZOFFSETTO:-0500
TZNAME:EST
DTSTART:20271107T060000
END:STANDARD
END:VTIMEZONE
BEGIN:VEVENT
DTSTART;TZID=America/New_York:20260501T090000
DTEND;TZID=America/New_York:20260501T111500
DTSTAMP:20260421T074826
CREATED:20260401T170104Z
LAST-MODIFIED:20260401T170104Z
UID:10002160-1777626000-1777634100@www.mccsudbury.org
SUMMARY:Music Together
DESCRIPTION:
URL:https://www.mccsudbury.org/event/music-together-3/2026-05-01/
LOCATION:Parlor\, 26 Concord Road\, Sudbury\, MA\, 01776\, United States
CATEGORIES:Renters
ATTACH;FMTTYPE=image/webp:https://www.mccsudbury.org/wp-content/uploads/2026/01/JDJ_9873.webp
END:VEVENT
BEGIN:VEVENT
DTSTART;TZID=America/New_York:20260502T100000
DTEND;TZID=America/New_York:20260502T120000
DTSTAMP:20260421T074826
CREATED:20260114T180727Z
LAST-MODIFIED:20260114T180727Z
UID:10001946-1777716000-1777723200@www.mccsudbury.org
SUMMARY:Sudbury Coop Teddy Bears Picnic
DESCRIPTION:
URL:https://www.mccsudbury.org/event/sudbury-coop-teddy-bears-picnic/
LOCATION:Ames Hall\, 26 Concord Road\, Sudbury\, MA\, 01776\, United States
ATTACH;FMTTYPE=image/webp:https://www.mccsudbury.org/wp-content/uploads/2026/01/JDJ_9873.webp
END:VEVENT
BEGIN:VEVENT
DTSTART;TZID=America/New_York:20260503T100000
DTEND;TZID=America/New_York:20260503T110000
DTSTAMP:20260421T074826
CREATED:20260114T180313Z
LAST-MODIFIED:20260114T180314Z
UID:10000020-1777802400-1777806000@www.mccsudbury.org
SUMMARY:Confirmation Sunday Worship
DESCRIPTION:Gather with us each Sunday for worship at Memorial Congregational Church. Our service blends thoughtful preaching\, prayer\, and music in a warm\, inclusive setting where questions are welcome and all are invited to participate at their own pace. Whether you are deeply rooted in faith\, returning after time away\, or simply curious\, you’ll find space here to reflect\, connect\, and be renewed in community. \nPlan your first visit:\nhttp://www.mccsudbury.org/plan-your-first-visit/
URL:https://www.mccsudbury.org/event/sunday-worship-2/
LOCATION:Sanctuary\, 26 Concord Road\, Sudbury\, 01776\, United States
ATTACH;FMTTYPE=image/webp:https://www.mccsudbury.org/wp-content/uploads/2026/01/JDJ_9459.webp
END:VEVENT
BEGIN:VEVENT
DTSTART;TZID=America/New_York:20260505T190000
DTEND;TZID=America/New_York:20260505T210000
DTSTAMP:20260421T074826
CREATED:20260113T192133Z
LAST-MODIFIED:20260120T004741Z
UID:10001838-1778007600-1778014800@www.mccsudbury.org
SUMMARY:Sudbury Bellringers
DESCRIPTION:New ringers are always welcome!
URL:https://www.mccsudbury.org/event/sudbury-bellringers/2026-05-05/
LOCATION:Blue Room\, 26 Concord Road\, Sudbury\, MA\, 01776\, United States
CATEGORIES:MCC Event
ATTACH;FMTTYPE=image/webp:https://www.mccsudbury.org/wp-content/uploads/2026/01/bellringers.webp
END:VEVENT
BEGIN:VEVENT
DTSTART;TZID=America/New_York:20260505T190000
DTEND;TZID=America/New_York:20260505T210000
DTSTAMP:20260421T074826
CREATED:20260303T143317Z
LAST-MODIFIED:20260303T143317Z
UID:10002121-1778007600-1778014800@www.mccsudbury.org
SUMMARY:BS Committee Meeting
DESCRIPTION:
URL:https://www.mccsudbury.org/event/bs-committee-meeting-3/2026-05-05/
LOCATION:Parlor\, 26 Concord Road\, Sudbury\, MA\, 01776\, United States
CATEGORIES:Renters
ATTACH;FMTTYPE=image/webp:https://www.mccsudbury.org/wp-content/uploads/2026/01/JDJ_9873.webp
END:VEVENT
BEGIN:VEVENT
DTSTART;TZID=America/New_York:20260506T173000
DTEND;TZID=America/New_York:20260506T190000
DTSTAMP:20260421T074826
CREATED:20260107T192705Z
LAST-MODIFIED:20260120T004903Z
UID:10000988-1778088600-1778094000@www.mccsudbury.org
SUMMARY:Youth Group (grades 5-12)
DESCRIPTION:
URL:https://www.mccsudbury.org/event/youth-group-grades-5-12/2026-05-06/
LOCATION:Parlor\, 26 Concord Road\, Sudbury\, MA\, 01776\, United States
CATEGORIES:MCC Event
ATTACH;FMTTYPE=image/webp:https://www.mccsudbury.org/wp-content/uploads/2025/11/youth-group.webp
END:VEVENT
BEGIN:VEVENT
DTSTART;TZID=America/New_York:20260506T190000
DTEND;TZID=America/New_York:20260506T203000
DTSTAMP:20260421T074826
CREATED:20260107T192818Z
LAST-MODIFIED:20260120T004932Z
UID:10001248-1778094000-1778099400@www.mccsudbury.org
SUMMARY:Senior Choir Rehearsal
DESCRIPTION:
URL:https://www.mccsudbury.org/event/senior-choir-rehearsal/2026-05-06/
LOCATION:Sanctuary\, 26 Concord Road\, Sudbury\, 01776\, United States
CATEGORIES:MCC Event
ATTACH;FMTTYPE=image/webp:https://www.mccsudbury.org/wp-content/uploads/2025/11/senior-choir.webp
END:VEVENT
BEGIN:VEVENT
DTSTART;TZID=America/New_York:20260506T193000
DTEND;TZID=America/New_York:20260506T213000
DTSTAMP:20260421T074826
CREATED:20260107T192944Z
LAST-MODIFIED:20260120T163111Z
UID:10001972-1778095800-1778103000@www.mccsudbury.org
SUMMARY:Boy Scouts Troop 61 Meeting
DESCRIPTION:
URL:https://www.mccsudbury.org/event/boy-scouts-troop-61-meeting/2026-05-06/
LOCATION:Ames Hall\, 26 Concord Road\, Sudbury\, MA\, 01776\, United States
CATEGORIES:Non-Church Events
ATTACH;FMTTYPE=image/jpeg:https://www.mccsudbury.org/wp-content/uploads/2026/01/troop61.jpg
END:VEVENT
BEGIN:VEVENT
DTSTART;TZID=America/New_York:20260508T090000
DTEND;TZID=America/New_York:20260508T111500
DTSTAMP:20260421T074826
CREATED:20260401T170104Z
LAST-MODIFIED:20260401T170104Z
UID:10002161-1778230800-1778238900@www.mccsudbury.org
SUMMARY:Music Together
DESCRIPTION:
URL:https://www.mccsudbury.org/event/music-together-3/2026-05-08/
LOCATION:Parlor\, 26 Concord Road\, Sudbury\, MA\, 01776\, United States
CATEGORIES:Renters
ATTACH;FMTTYPE=image/webp:https://www.mccsudbury.org/wp-content/uploads/2026/01/JDJ_9873.webp
END:VEVENT
BEGIN:VEVENT
DTSTART;TZID=America/New_York:20260510T100000
DTEND;TZID=America/New_York:20260510T110000
DTSTAMP:20260421T074826
CREATED:20260107T155718Z
LAST-MODIFIED:20260120T005306Z
UID:10000021-1778407200-1778410800@www.mccsudbury.org
SUMMARY:Sunday Worship
DESCRIPTION:Gather with us each Sunday for worship at Memorial Congregational Church. Our service blends thoughtful preaching\, prayer\, and music in a warm\, inclusive setting where questions are welcome and all are invited to participate at their own pace. Whether you are deeply rooted in faith\, returning after time away\, or simply curious\, you’ll find space here to reflect\, connect\, and be renewed in community. \nPlan your first visit:\nhttp://www.mccsudbury.org/plan-your-first-visit/
URL:https://www.mccsudbury.org/event/sunday-worship/2026-05-10/
LOCATION:Sanctuary\, 26 Concord Road\, Sudbury\, 01776\, United States
CATEGORIES:MCC Event
ATTACH;FMTTYPE=image/webp:https://www.mccsudbury.org/wp-content/uploads/2026/01/JDJ_9459.webp
END:VEVENT
BEGIN:VEVENT
DTSTART;TZID=America/New_York:20260510T113000
DTEND;TZID=America/New_York:20260510T123000
DTSTAMP:20260421T074826
CREATED:20260107T161120Z
LAST-MODIFIED:20260108T184530Z
UID:10000269-1778412600-1778416200@www.mccsudbury.org
SUMMARY:Diaconate
DESCRIPTION:
URL:https://www.mccsudbury.org/event/diaconate/2026-05-10/
LOCATION:Meeting Room\, 26 Concord Road\, Sudbury\, MA\, 01776\, United States
ATTACH;FMTTYPE=image/jpeg:https://www.mccsudbury.org/wp-content/uploads/2026/01/meeting-room-door-scaled-e1767898139465.jpeg
END:VEVENT
BEGIN:VEVENT
DTSTART;TZID=America/New_York:20260511T124500
DTEND;TZID=America/New_York:20260511T170000
DTSTAMP:20260421T074826
CREATED:20260219T175051Z
LAST-MODIFIED:20260219T175051Z
UID:10002040-1778503500-1778518800@www.mccsudbury.org
SUMMARY:Piano Tuning
DESCRIPTION:
URL:https://www.mccsudbury.org/event/piano-tuning-9/
LOCATION:Blue Room and Ames Hall
ATTACH;FMTTYPE=image/webp:https://www.mccsudbury.org/wp-content/uploads/2026/01/JDJ_9873.webp
END:VEVENT
BEGIN:VEVENT
DTSTART;TZID=America/New_York:20260512T190000
DTEND;TZID=America/New_York:20260512T200000
DTSTAMP:20260421T074826
CREATED:20260107T192402Z
LAST-MODIFIED:20260120T004815Z
UID:10000656-1778612400-1778616000@www.mccsudbury.org
SUMMARY:Council
DESCRIPTION:
URL:https://www.mccsudbury.org/event/council/2026-05-12/
LOCATION:Meeting Room\, 26 Concord Road\, Sudbury\, MA\, 01776\, United States
CATEGORIES:MCC Event
ATTACH;FMTTYPE=image/jpeg:https://www.mccsudbury.org/wp-content/uploads/2026/01/meeting-room-TV-scaled-e1767898283278.jpeg
END:VEVENT
BEGIN:VEVENT
DTSTART;TZID=America/New_York:20260512T190000
DTEND;TZID=America/New_York:20260512T210000
DTSTAMP:20260421T074826
CREATED:20260107T171112Z
LAST-MODIFIED:20260114T172110Z
UID:10000595-1778612400-1778619600@www.mccsudbury.org
SUMMARY:BS Committee Meeting
DESCRIPTION:
URL:https://www.mccsudbury.org/event/bs-committee-meeting/2026-05-12/
LOCATION:MA
CATEGORIES:Non-Church Events,Renters
ATTACH;FMTTYPE=image/webp:https://www.mccsudbury.org/wp-content/uploads/2026/01/JDJ_9873.webp
END:VEVENT
BEGIN:VEVENT
DTSTART;TZID=America/New_York:20260512T190000
DTEND;TZID=America/New_York:20260512T210000
DTSTAMP:20260421T074826
CREATED:20260113T192133Z
LAST-MODIFIED:20260120T004741Z
UID:10001839-1778612400-1778619600@www.mccsudbury.org
SUMMARY:Sudbury Bellringers
DESCRIPTION:New ringers are always welcome!
URL:https://www.mccsudbury.org/event/sudbury-bellringers/2026-05-12/
LOCATION:Blue Room\, 26 Concord Road\, Sudbury\, MA\, 01776\, United States
CATEGORIES:MCC Event
ATTACH;FMTTYPE=image/webp:https://www.mccsudbury.org/wp-content/uploads/2026/01/bellringers.webp
END:VEVENT
BEGIN:VEVENT
DTSTART;TZID=America/New_York:20260513T084500
DTEND;TZID=America/New_York:20260513T124500
DTSTAMP:20260421T074826
CREATED:20260114T180448Z
LAST-MODIFIED:20260114T180448Z
UID:10001944-1778661900-1778676300@www.mccsudbury.org
SUMMARY:Sudbury Garden Club
DESCRIPTION:
URL:https://www.mccsudbury.org/event/sudbury-garden-club-3/
LOCATION:Parlor\, 26 Concord Road\, Sudbury\, MA\, 01776\, United States
ATTACH;FMTTYPE=image/webp:https://www.mccsudbury.org/wp-content/uploads/2026/01/JDJ_9873.webp
END:VEVENT
BEGIN:VEVENT
DTSTART;TZID=America/New_York:20260513T173000
DTEND;TZID=America/New_York:20260513T190000
DTSTAMP:20260421T074826
CREATED:20260107T192705Z
LAST-MODIFIED:20260120T004903Z
UID:10000989-1778693400-1778698800@www.mccsudbury.org
SUMMARY:Youth Group (grades 5-12)
DESCRIPTION:
URL:https://www.mccsudbury.org/event/youth-group-grades-5-12/2026-05-13/
LOCATION:Parlor\, 26 Concord Road\, Sudbury\, MA\, 01776\, United States
CATEGORIES:MCC Event
ATTACH;FMTTYPE=image/webp:https://www.mccsudbury.org/wp-content/uploads/2025/11/youth-group.webp
END:VEVENT
BEGIN:VEVENT
DTSTART;TZID=America/New_York:20260513T190000
DTEND;TZID=America/New_York:20260513T203000
DTSTAMP:20260421T074826
CREATED:20260107T192818Z
LAST-MODIFIED:20260120T004932Z
UID:10001249-1778698800-1778704200@www.mccsudbury.org
SUMMARY:Senior Choir Rehearsal
DESCRIPTION:
URL:https://www.mccsudbury.org/event/senior-choir-rehearsal/2026-05-13/
LOCATION:Sanctuary\, 26 Concord Road\, Sudbury\, 01776\, United States
CATEGORIES:MCC Event
ATTACH;FMTTYPE=image/webp:https://www.mccsudbury.org/wp-content/uploads/2025/11/senior-choir.webp
END:VEVENT
BEGIN:VEVENT
DTSTART;TZID=America/New_York:20260513T193000
DTEND;TZID=America/New_York:20260513T213000
DTSTAMP:20260421T074826
CREATED:20260107T192944Z
LAST-MODIFIED:20260120T163111Z
UID:10001496-1778700600-1778707800@www.mccsudbury.org
SUMMARY:Boy Scouts Troop 61 Meeting
DESCRIPTION:
URL:https://www.mccsudbury.org/event/boy-scouts-troop-61-meeting/2026-05-13/
LOCATION:Ames Hall\, 26 Concord Road\, Sudbury\, MA\, 01776\, United States
CATEGORIES:Non-Church Events
ATTACH;FMTTYPE=image/jpeg:https://www.mccsudbury.org/wp-content/uploads/2026/01/troop61.jpg
END:VEVENT
BEGIN:VEVENT
DTSTART;TZID=America/New_York:20260515T090000
DTEND;TZID=America/New_York:20260515T111500
DTSTAMP:20260421T074826
CREATED:20260401T170104Z
LAST-MODIFIED:20260401T170104Z
UID:10002162-1778835600-1778843700@www.mccsudbury.org
SUMMARY:Music Together
DESCRIPTION:
URL:https://www.mccsudbury.org/event/music-together-3/2026-05-15/
LOCATION:Parlor\, 26 Concord Road\, Sudbury\, MA\, 01776\, United States
CATEGORIES:Renters
ATTACH;FMTTYPE=image/webp:https://www.mccsudbury.org/wp-content/uploads/2026/01/JDJ_9873.webp
END:VEVENT
BEGIN:VEVENT
DTSTART;TZID=America/New_York:20260515T150000
DTEND;TZID=America/New_York:20260515T200000
DTSTAMP:20260421T074826
CREATED:20260331T132947Z
LAST-MODIFIED:20260331T132947Z
UID:10002151-1778857200-1778875200@www.mccsudbury.org
SUMMARY:Trivia Night Set up
DESCRIPTION:
URL:https://www.mccsudbury.org/event/trivia-night-set-up/
LOCATION:Ames Hall\, 26 Concord Road\, Sudbury\, MA\, 01776\, United States
ATTACH;FMTTYPE=image/webp:https://www.mccsudbury.org/wp-content/uploads/2026/01/JDJ_9873.webp
END:VEVENT
BEGIN:VEVENT
DTSTART;VALUE=DATE:20260516
DTEND;VALUE=DATE:20260517
DTSTAMP:20260421T074826
CREATED:20260114T180854Z
LAST-MODIFIED:20260114T180854Z
UID:10001947-1778889600-1778975999@www.mccsudbury.org
SUMMARY:TRIVIA NIGHT
DESCRIPTION:
URL:https://www.mccsudbury.org/event/trivia-night/
LOCATION:MA
ATTACH;FMTTYPE=image/webp:https://www.mccsudbury.org/wp-content/uploads/2026/01/JDJ_9873.webp
END:VEVENT
BEGIN:VEVENT
DTSTART;TZID=America/New_York:20260517T100000
DTEND;TZID=America/New_York:20260517T110000
DTSTAMP:20260421T074826
CREATED:20260107T155718Z
LAST-MODIFIED:20260120T005306Z
UID:10000022-1779012000-1779015600@www.mccsudbury.org
SUMMARY:Sunday Worship
DESCRIPTION:Gather with us each Sunday for worship at Memorial Congregational Church. Our service blends thoughtful preaching\, prayer\, and music in a warm\, inclusive setting where questions are welcome and all are invited to participate at their own pace. Whether you are deeply rooted in faith\, returning after time away\, or simply curious\, you’ll find space here to reflect\, connect\, and be renewed in community. \nPlan your first visit:\nhttp://www.mccsudbury.org/plan-your-first-visit/
URL:https://www.mccsudbury.org/event/sunday-worship/2026-05-17/
LOCATION:Sanctuary\, 26 Concord Road\, Sudbury\, 01776\, United States
CATEGORIES:MCC Event
ATTACH;FMTTYPE=image/webp:https://www.mccsudbury.org/wp-content/uploads/2026/01/JDJ_9459.webp
END:VEVENT
BEGIN:VEVENT
DTSTART;TZID=America/New_York:20260517T100000
DTEND;TZID=America/New_York:20260517T110000
DTSTAMP:20260421T074826
CREATED:20260318T003744Z
LAST-MODIFIED:20260318T003744Z
UID:10002143-1779012000-1779015600@www.mccsudbury.org
SUMMARY:Annual Meeting
DESCRIPTION:
URL:https://www.mccsudbury.org/event/annual-meeting/2026-05-17/
LOCATION:Sanctuary and Parlor
CATEGORIES:MCC Event
ATTACH;FMTTYPE=image/jpeg:https://www.mccsudbury.org/wp-content/uploads/2026/03/hands.jpg
END:VEVENT
BEGIN:VEVENT
DTSTART;TZID=America/New_York:20260517T120000
DTEND;TZID=America/New_York:20260517T180000
DTSTAMP:20260421T074826
CREATED:20260117T204400Z
LAST-MODIFIED:20260130T080312Z
UID:10001985-1779019200-1779040800@www.mccsudbury.org
SUMMARY:Wayland Music
DESCRIPTION:
URL:https://www.mccsudbury.org/event/tbd-wayland-music-3/
LOCATION:Ames Hall\, 26 Concord Road\, Sudbury\, MA\, 01776\, United States
ATTACH;FMTTYPE=image/webp:https://www.mccsudbury.org/wp-content/uploads/2026/01/JDJ_9873.webp
END:VEVENT
BEGIN:VEVENT
DTSTART;TZID=America/New_York:20260519T070000
DTEND;TZID=America/New_York:20260519T220000
DTSTAMP:20260421T074826
CREATED:20260114T180553Z
LAST-MODIFIED:20260114T180553Z
UID:10001945-1779174000-1779228000@www.mccsudbury.org
SUMMARY:BASD
DESCRIPTION:
URL:https://www.mccsudbury.org/event/basd-3/
LOCATION:Parlor\, 26 Concord Road\, Sudbury\, MA\, 01776\, United States
ATTACH;FMTTYPE=image/webp:https://www.mccsudbury.org/wp-content/uploads/2026/01/JDJ_9873.webp
END:VEVENT
BEGIN:VEVENT
DTSTART;TZID=America/New_York:20260519T190000
DTEND;TZID=America/New_York:20260519T210000
DTSTAMP:20260421T074826
CREATED:20260113T192133Z
LAST-MODIFIED:20260120T004741Z
UID:10001840-1779217200-1779224400@www.mccsudbury.org
SUMMARY:Sudbury Bellringers
DESCRIPTION:New ringers are always welcome!
URL:https://www.mccsudbury.org/event/sudbury-bellringers/2026-05-19/
LOCATION:Blue Room\, 26 Concord Road\, Sudbury\, MA\, 01776\, United States
CATEGORIES:MCC Event
ATTACH;FMTTYPE=image/webp:https://www.mccsudbury.org/wp-content/uploads/2026/01/bellringers.webp
END:VEVENT
BEGIN:VEVENT
DTSTART;TZID=America/New_York:20260520T173000
DTEND;TZID=America/New_York:20260520T190000
DTSTAMP:20260421T074826
CREATED:20260107T192705Z
LAST-MODIFIED:20260120T004903Z
UID:10000990-1779298200-1779303600@www.mccsudbury.org
SUMMARY:Youth Group (grades 5-12)
DESCRIPTION:
URL:https://www.mccsudbury.org/event/youth-group-grades-5-12/2026-05-20/
LOCATION:Parlor\, 26 Concord Road\, Sudbury\, MA\, 01776\, United States
CATEGORIES:MCC Event
ATTACH;FMTTYPE=image/webp:https://www.mccsudbury.org/wp-content/uploads/2025/11/youth-group.webp
END:VEVENT
BEGIN:VEVENT
DTSTART;TZID=America/New_York:20260520T190000
DTEND;TZID=America/New_York:20260520T203000
DTSTAMP:20260421T074826
CREATED:20260107T192818Z
LAST-MODIFIED:20260120T004932Z
UID:10001250-1779303600-1779309000@www.mccsudbury.org
SUMMARY:Senior Choir Rehearsal
DESCRIPTION:
URL:https://www.mccsudbury.org/event/senior-choir-rehearsal/2026-05-20/
LOCATION:Sanctuary\, 26 Concord Road\, Sudbury\, 01776\, United States
CATEGORIES:MCC Event
ATTACH;FMTTYPE=image/webp:https://www.mccsudbury.org/wp-content/uploads/2025/11/senior-choir.webp
END:VEVENT
BEGIN:VEVENT
DTSTART;TZID=America/New_York:20260520T193000
DTEND;TZID=America/New_York:20260520T213000
DTSTAMP:20260421T074826
CREATED:20260107T192944Z
LAST-MODIFIED:20260120T163111Z
UID:10001973-1779305400-1779312600@www.mccsudbury.org
SUMMARY:Boy Scouts Troop 61 Meeting
DESCRIPTION:
URL:https://www.mccsudbury.org/event/boy-scouts-troop-61-meeting/2026-05-20/
LOCATION:Ames Hall\, 26 Concord Road\, Sudbury\, MA\, 01776\, United States
CATEGORIES:Non-Church Events
ATTACH;FMTTYPE=image/jpeg:https://www.mccsudbury.org/wp-content/uploads/2026/01/troop61.jpg
END:VEVENT
BEGIN:VEVENT
DTSTART;TZID=America/New_York:20260521T153000
DTEND;TZID=America/New_York:20260521T173000
DTSTAMP:20260421T074826
CREATED:20260416T210906Z
LAST-MODIFIED:20260416T210923Z
UID:10002289-1779377400-1779384600@www.mccsudbury.org
SUMMARY:Properties Meeting
DESCRIPTION:
URL:https://www.mccsudbury.org/event/properties-meeting-2/
LOCATION:Meeting Room\, 26 Concord Road\, Sudbury\, MA\, 01776\, United States
CATEGORIES:MCC Event
ATTACH;FMTTYPE=image/jpeg:https://www.mccsudbury.org/wp-content/uploads/2025/12/meeting1-scaled.jpeg
END:VEVENT
BEGIN:VEVENT
DTSTART;TZID=America/New_York:20260522T090000
DTEND;TZID=America/New_York:20260522T111500
DTSTAMP:20260421T074826
CREATED:20260401T170104Z
LAST-MODIFIED:20260401T170104Z
UID:10002163-1779440400-1779448500@www.mccsudbury.org
SUMMARY:Music Together
DESCRIPTION:
URL:https://www.mccsudbury.org/event/music-together-3/2026-05-22/
LOCATION:Parlor\, 26 Concord Road\, Sudbury\, MA\, 01776\, United States
CATEGORIES:Renters
ATTACH;FMTTYPE=image/webp:https://www.mccsudbury.org/wp-content/uploads/2026/01/JDJ_9873.webp
END:VEVENT
BEGIN:VEVENT
DTSTART;TZID=America/New_York:20260524T100000
DTEND;TZID=America/New_York:20260524T110000
DTSTAMP:20260421T074826
CREATED:20260107T155718Z
LAST-MODIFIED:20260120T005306Z
UID:10000023-1779616800-1779620400@www.mccsudbury.org
SUMMARY:Sunday Worship
DESCRIPTION:Gather with us each Sunday for worship at Memorial Congregational Church. Our service blends thoughtful preaching\, prayer\, and music in a warm\, inclusive setting where questions are welcome and all are invited to participate at their own pace. Whether you are deeply rooted in faith\, returning after time away\, or simply curious\, you’ll find space here to reflect\, connect\, and be renewed in community. \nPlan your first visit:\nhttp://www.mccsudbury.org/plan-your-first-visit/
URL:https://www.mccsudbury.org/event/sunday-worship/2026-05-24/
LOCATION:Sanctuary\, 26 Concord Road\, Sudbury\, 01776\, United States
CATEGORIES:MCC Event
ATTACH;FMTTYPE=image/webp:https://www.mccsudbury.org/wp-content/uploads/2026/01/JDJ_9459.webp
END:VEVENT
BEGIN:VEVENT
DTSTART;TZID=America/New_York:20260526T190000
DTEND;TZID=America/New_York:20260526T210000
DTSTAMP:20260421T074826
CREATED:20260113T192133Z
LAST-MODIFIED:20260120T004741Z
UID:10001841-1779822000-1779829200@www.mccsudbury.org
SUMMARY:Sudbury Bellringers
DESCRIPTION:New ringers are always welcome!
URL:https://www.mccsudbury.org/event/sudbury-bellringers/2026-05-26/
LOCATION:Blue Room\, 26 Concord Road\, Sudbury\, MA\, 01776\, United States
CATEGORIES:MCC Event
ATTACH;FMTTYPE=image/webp:https://www.mccsudbury.org/wp-content/uploads/2026/01/bellringers.webp
END:VEVENT
BEGIN:VEVENT
DTSTART;TZID=America/New_York:20260527T173000
DTEND;TZID=America/New_York:20260527T190000
DTSTAMP:20260421T074826
CREATED:20260107T192705Z
LAST-MODIFIED:20260120T004903Z
UID:10000991-1779903000-1779908400@www.mccsudbury.org
SUMMARY:Youth Group (grades 5-12)
DESCRIPTION:
URL:https://www.mccsudbury.org/event/youth-group-grades-5-12/2026-05-27/
LOCATION:Parlor\, 26 Concord Road\, Sudbury\, MA\, 01776\, United States
CATEGORIES:MCC Event
ATTACH;FMTTYPE=image/webp:https://www.mccsudbury.org/wp-content/uploads/2025/11/youth-group.webp
END:VEVENT
BEGIN:VEVENT
DTSTART;TZID=America/New_York:20260527T190000
DTEND;TZID=America/New_York:20260527T203000
DTSTAMP:20260421T074826
CREATED:20260107T192818Z
LAST-MODIFIED:20260120T004932Z
UID:10001251-1779908400-1779913800@www.mccsudbury.org
SUMMARY:Senior Choir Rehearsal
DESCRIPTION:
URL:https://www.mccsudbury.org/event/senior-choir-rehearsal/2026-05-27/
LOCATION:Sanctuary\, 26 Concord Road\, Sudbury\, 01776\, United States
CATEGORIES:MCC Event
ATTACH;FMTTYPE=image/webp:https://www.mccsudbury.org/wp-content/uploads/2025/11/senior-choir.webp
END:VEVENT
BEGIN:VEVENT
DTSTART;TZID=America/New_York:20260527T193000
DTEND;TZID=America/New_York:20260527T213000
DTSTAMP:20260421T074826
CREATED:20260107T192944Z
LAST-MODIFIED:20260120T163111Z
UID:10001974-1779910200-1779917400@www.mccsudbury.org
SUMMARY:Boy Scouts Troop 61 Meeting
DESCRIPTION:
URL:https://www.mccsudbury.org/event/boy-scouts-troop-61-meeting/2026-05-27/
LOCATION:Ames Hall\, 26 Concord Road\, Sudbury\, MA\, 01776\, United States
CATEGORIES:Non-Church Events
ATTACH;FMTTYPE=image/jpeg:https://www.mccsudbury.org/wp-content/uploads/2026/01/troop61.jpg
END:VEVENT
BEGIN:VEVENT
DTSTART;TZID=America/New_York:20260529T090000
DTEND;TZID=America/New_York:20260529T111500
DTSTAMP:20260421T074826
CREATED:20260401T170104Z
LAST-MODIFIED:20260401T170104Z
UID:10002164-1780045200-1780053300@www.mccsudbury.org
SUMMARY:Music Together
DESCRIPTION:
URL:https://www.mccsudbury.org/event/music-together-3/2026-05-29/
LOCATION:Parlor\, 26 Concord Road\, Sudbury\, MA\, 01776\, United States
CATEGORIES:Renters
ATTACH;FMTTYPE=image/webp:https://www.mccsudbury.org/wp-content/uploads/2026/01/JDJ_9873.webp
END:VEVENT
BEGIN:VEVENT
DTSTART;TZID=America/New_York:20260530T130000
DTEND;TZID=America/New_York:20260530T190000
DTSTAMP:20260421T074826
CREATED:20260117T204110Z
LAST-MODIFIED:20260130T080443Z
UID:10001983-1780146000-1780167600@www.mccsudbury.org
SUMMARY:Wayland Music
DESCRIPTION:
URL:https://www.mccsudbury.org/event/tbd-wayland-music/
LOCATION:Ames Hall\, 26 Concord Road\, Sudbury\, MA\, 01776\, United States
ATTACH;FMTTYPE=image/webp:https://www.mccsudbury.org/wp-content/uploads/2026/01/JDJ_9873.webp
END:VEVENT
BEGIN:VEVENT
DTSTART;TZID=America/New_York:20260531T100000
DTEND;TZID=America/New_York:20260531T110000
DTSTAMP:20260421T074826
CREATED:20260107T155718Z
LAST-MODIFIED:20260120T005306Z
UID:10000024-1780221600-1780225200@www.mccsudbury.org
SUMMARY:Sunday Worship
DESCRIPTION:Gather with us each Sunday for worship at Memorial Congregational Church. Our service blends thoughtful preaching\, prayer\, and music in a warm\, inclusive setting where questions are welcome and all are invited to participate at their own pace. Whether you are deeply rooted in faith\, returning after time away\, or simply curious\, you’ll find space here to reflect\, connect\, and be renewed in community. \nPlan your first visit:\nhttp://www.mccsudbury.org/plan-your-first-visit/
URL:https://www.mccsudbury.org/event/sunday-worship/2026-05-31/
LOCATION:Sanctuary\, 26 Concord Road\, Sudbury\, 01776\, United States
CATEGORIES:MCC Event
ATTACH;FMTTYPE=image/webp:https://www.mccsudbury.org/wp-content/uploads/2026/01/JDJ_9459.webp
END:VEVENT
BEGIN:VEVENT
DTSTART;TZID=America/New_York:20260531T120000
DTEND;TZID=America/New_York:20260531T210000
DTSTAMP:20260421T074826
CREATED:20260117T204227Z
LAST-MODIFIED:20260130T080546Z
UID:10001984-1780228800-1780261200@www.mccsudbury.org
SUMMARY:Wayland Music
DESCRIPTION:
URL:https://www.mccsudbury.org/event/tbd-wayland-music-2/
LOCATION:Ames Hall\, 26 Concord Road\, Sudbury\, MA\, 01776\, United States
ATTACH;FMTTYPE=image/webp:https://www.mccsudbury.org/wp-content/uploads/2026/01/JDJ_9873.webp
END:VEVENT
END:VCALENDAR