BEGIN:VCALENDAR
VERSION:2.0
PRODID:-//Memorial Congregational Church of Sudbury - ECPv6.15.20//NONSGML v1.0//EN
CALSCALE:GREGORIAN
METHOD:PUBLISH
X-ORIGINAL-URL:https://www.mccsudbury.org
X-WR-CALDESC:Events for Memorial Congregational Church of Sudbury
REFRESH-INTERVAL;VALUE=DURATION:PT1H
X-Robots-Tag:noindex
X-PUBLISHED-TTL:PT1H
BEGIN:VTIMEZONE
TZID:America/New_York
BEGIN:DAYLIGHT
TZOFFSETFROM:-0500
TZOFFSETTO:-0400
TZNAME:EDT
DTSTART:20250309T070000
END:DAYLIGHT
BEGIN:STANDARD
TZOFFSETFROM:-0400
TZOFFSETTO:-0500
TZNAME:EST
DTSTART:20251102T060000
END:STANDARD
BEGIN:DAYLIGHT
TZOFFSETFROM:-0500
TZOFFSETTO:-0400
TZNAME:EDT
DTSTART:20260308T070000
END:DAYLIGHT
BEGIN:STANDARD
TZOFFSETFROM:-0400
TZOFFSETTO:-0500
TZNAME:EST
DTSTART:20261101T060000
END:STANDARD
BEGIN:DAYLIGHT
TZOFFSETFROM:-0500
TZOFFSETTO:-0400
TZNAME:EDT
DTSTART:20270314T070000
END:DAYLIGHT
BEGIN:STANDARD
TZOFFSETFROM:-0400
TZOFFSETTO:-0500
TZNAME:EST
DTSTART:20271107T060000
END:STANDARD
END:VTIMEZONE
BEGIN:VEVENT
DTSTART;TZID=America/New_York:20260605T090000
DTEND;TZID=America/New_York:20260605T111500
DTSTAMP:20260421T074831
CREATED:20260401T170104Z
LAST-MODIFIED:20260401T170104Z
UID:10002165-1780650000-1780658100@www.mccsudbury.org
SUMMARY:Music Together
DESCRIPTION:
URL:https://www.mccsudbury.org/event/music-together-3/2026-06-05/
LOCATION:Parlor\, 26 Concord Road\, Sudbury\, MA\, 01776\, United States
CATEGORIES:Renters
ATTACH;FMTTYPE=image/webp:https://www.mccsudbury.org/wp-content/uploads/2026/01/JDJ_9873.webp
END:VEVENT
BEGIN:VEVENT
DTSTART;TZID=America/New_York:20260605T193000
DTEND;TZID=America/New_York:20260605T210000
DTSTAMP:20260421T074831
CREATED:20260114T181335Z
LAST-MODIFIED:20260114T181335Z
UID:10001948-1780687800-1780693200@www.mccsudbury.org
SUMMARY:Eagle Scout Set-up
DESCRIPTION:
URL:https://www.mccsudbury.org/event/eagle-scout-set-up/
LOCATION:Sanctuary and Parlor
ATTACH;FMTTYPE=image/webp:https://www.mccsudbury.org/wp-content/uploads/2026/01/JDJ_9873.webp
END:VEVENT
END:VCALENDAR