BEGIN:VCALENDAR
VERSION:2.0
PRODID:-//Memorial Congregational Church of Sudbury - ECPv6.15.20//NONSGML v1.0//EN
CALSCALE:GREGORIAN
METHOD:PUBLISH
X-WR-CALNAME:Memorial Congregational Church of Sudbury
X-ORIGINAL-URL:https://www.mccsudbury.org
X-WR-CALDESC:Events for Memorial Congregational Church of Sudbury
REFRESH-INTERVAL;VALUE=DURATION:PT1H
X-Robots-Tag:noindex
X-PUBLISHED-TTL:PT1H
BEGIN:VTIMEZONE
TZID:America/New_York
BEGIN:DAYLIGHT
TZOFFSETFROM:-0500
TZOFFSETTO:-0400
TZNAME:EDT
DTSTART:20250309T070000
END:DAYLIGHT
BEGIN:STANDARD
TZOFFSETFROM:-0400
TZOFFSETTO:-0500
TZNAME:EST
DTSTART:20251102T060000
END:STANDARD
BEGIN:DAYLIGHT
TZOFFSETFROM:-0500
TZOFFSETTO:-0400
TZNAME:EDT
DTSTART:20260308T070000
END:DAYLIGHT
BEGIN:STANDARD
TZOFFSETFROM:-0400
TZOFFSETTO:-0500
TZNAME:EST
DTSTART:20261101T060000
END:STANDARD
BEGIN:DAYLIGHT
TZOFFSETFROM:-0500
TZOFFSETTO:-0400
TZNAME:EDT
DTSTART:20270314T070000
END:DAYLIGHT
BEGIN:STANDARD
TZOFFSETFROM:-0400
TZOFFSETTO:-0500
TZNAME:EST
DTSTART:20271107T060000
END:STANDARD
END:VTIMEZONE
BEGIN:VEVENT
DTSTART;VALUE=DATE:20260412
DTEND;VALUE=DATE:20260424
DTSTAMP:20260421T112807
CREATED:20260401T160138Z
LAST-MODIFIED:20260415T132555Z
UID:10002156-1775952000-1776988799@www.mccsudbury.org
SUMMARY:Thrifting sorting
DESCRIPTION:Using room to sort!
URL:https://www.mccsudbury.org/event/thrifting/
LOCATION:Purple Room
CATEGORIES:MCC Event
ATTACH;FMTTYPE=image/jpeg:https://www.mccsudbury.org/wp-content/uploads/2025/12/pruple-room.jpeg
END:VEVENT
BEGIN:VEVENT
DTSTART;VALUE=DATE:20260414
DTEND;VALUE=DATE:20260417
DTSTAMP:20260421T112807
CREATED:20260408T150753Z
LAST-MODIFIED:20260408T151406Z
UID:10002282-1776124800-1776383999@www.mccsudbury.org
SUMMARY:Ann away
DESCRIPTION:
URL:https://www.mccsudbury.org/event/ann-away/
LOCATION:MA
ATTACH;FMTTYPE=image/webp:https://www.mccsudbury.org/wp-content/uploads/2026/01/JDJ_9873.webp
END:VEVENT
BEGIN:VEVENT
DTSTART;TZID=America/New_York:20260416T090000
DTEND;TZID=America/New_York:20260416T120000
DTSTAMP:20260421T112807
CREATED:20260309T143652Z
LAST-MODIFIED:20260319T132651Z
UID:10002139-1776330000-1776340800@www.mccsudbury.org
SUMMARY:Sudbury Coop Parent Coffee
DESCRIPTION:
URL:https://www.mccsudbury.org/event/sudbury-coop-parent-coffee/
LOCATION:Parlor\, 26 Concord Road\, Sudbury\, MA\, 01776\, United States
ATTACH;FMTTYPE=image/webp:https://www.mccsudbury.org/wp-content/uploads/2026/01/JDJ_9873.webp
END:VEVENT
BEGIN:VEVENT
DTSTART;TZID=America/New_York:20260416T153000
DTEND;TZID=America/New_York:20260416T173000
DTSTAMP:20260421T112807
CREATED:20260323T142004Z
LAST-MODIFIED:20260323T142004Z
UID:10002148-1776353400-1776360600@www.mccsudbury.org
SUMMARY:Properties
DESCRIPTION:
URL:https://www.mccsudbury.org/event/properties-2/
LOCATION:Meeting Room\, 26 Concord Road\, Sudbury\, MA\, 01776\, United States
ATTACH;FMTTYPE=image/webp:https://www.mccsudbury.org/wp-content/uploads/2026/01/JDJ_9873.webp
END:VEVENT
END:VCALENDAR